Workbook
Name ben: #REF!
Name bene: #REF!
Name benef: #REF!
Name benefit: #REF!
Name benefit1: #REF!
Name benefit2: #REF!
Name benefit3: #REF!
Name benefit4: #REF!
Name benefit5: #REF!
Name benefit6: #REF!
Name benefit7: #REF!
Name benefit8: #REF!
Name benefit9: #REF!
Name published: #REF!
Name purchace: #REF!
Name received: #REF!

Sheet شاخص فعالیت
B3: (هزار ميليارد ريال- ميليارد سهم) | D3: شاخص ها و نماگرهاي بازار اوراق بهادار تهران | M3: 1
B4: عنوان | D4: 1400 | G4: 1401 | K4: درصد تغييرات
D5: چهار | E5: پايان | G5: خرداد | H5: تیر | I5: چهار | K5: تیرماه1401 به | L5: تیر‌ماه1401 به | M5: چهار ماهه 1401 به
D6: ماهه | E6: سال | G6: ماه | H6: ماه | I6: ماهه | K6: ماه گذشته | L6: پايان سال 1400 | M6: چهار ‌ماهه1400 ‌
B7: بورس اوراق بهادار تهران | C7: شاخص کل | D7: =[1]ماهانه!$HO$5 -> 1311306 | E7: =[1]ماهانه!$HW$5 -> 1367250.3 | G7: =[1]ماهانه!$HZ$5 -> 1539632.2 | H7: =[1]ماهانه!$IA$5 -> 1471898 | I7: =H7 -> 1471898 | K7: =+H7/G7*100-100 -> -4.3993754 | L7: =+H7/E7*100-100 -> 7.6538802 | M7: =+I7/D7*100-100 -> 12.246722
C8: شاخص هم وزن | D8: =[1]ماهانه!$HO$8 -> 403074 | E8: =[1]ماهانه!$HW$8 -> 348268.76 | G8: =[1]ماهانه!$HZ$8 -> 423457 | H8: =[1]ماهانه!$IA$8 -> 403781.66 | I8: =H8 -> 403781.66 | K8: =+H8/G8*100-100 -> -4.6463617 | L8: =+H8/E8*100-100 -> 15.939671 | M8: =+I8/D8*100-100 -> 0.17556478
C9: ارزش بازار سهام | D9: =[1]ماهانه!$HO$11 -> 53427.8 | E9: =[1]ماهانه!$HW$11 -> 53604.562 | G9: =[1]ماهانه!$HZ$11 -> 61006.819 | H9: =[1]ماهانه!$IA$11 -> 57198.781 | I9: =H9 -> 57198.781 | K9: =+H9/G9*100-100 -> -6.2419875 | L9: =+H9/E9*100-100 -> 6.7050618 | M9: =+I9/D9*100-100 -> 7.0580877
C10: ارزش بازار بدهي | D10: =[1]ماهانه!$HO$12 -> 256.42994 | E10: =[1]ماهانه!$HW$12 -> 344.39414 | G10: =[2]ماهانه!$HZ$12 -> 385.63102 | H10: =[1]ماهانه!$IA$12 -> 396.35207 | I10: =H10 -> 396.35207 | K10: =+H10/G10*100-100 -> 2.7801311 | L10: =+H10/E10*100-100 -> 15.086764 | M10: =+I10/D10*100-100 -> 54.565444
C11: ارزش معاملات | D11: 2817.8 | E11: 8849.3977 | G11: =[2]ماهانه!$HZ$9 -> 734.46072 | H11: =[1]ماهانه!$IA$9 -> 559.21167 | I11: =[1]ماهانه!$HX$9+[1]ماهانه!$HY$9+[1]ماهانه!$HZ$9+[1]ماهانه!$IA$9 -> 2996.4984 | K11: =+H11/G11*100-100 -> -23.860915 | L11: _ | M11: =+I11/D11*100-100 -> 6.3417698
C12: حجم معاملات | D12: 444.1 | E12: 1407.412 | G12: =[2]ماهانه!$HZ$10 -> 149.071 | H12: =[1]ماهانه!$IA$10 -> 111.328 | I12: =[1]ماهانه!$HX$10+[1]ماهانه!$HY$10+[1]ماهانه!$HZ$10+[1]ماهانه!$IA$10 -> 637.083 | K12: =+H12/G12*100-100 -> -25.318808 | L12: _ | M12: =+I12/D12*100-100 -> 43.454853
B13: فرابورس | C13: شاخص کل | D13: =[1]ماهانه!$HO$20 -> 19049.162 | E13: =[1]ماهانه!$HW$20 -> 18378.513 | G13: =[1]ماهانه!$HZ$20 -> 20833.364 | H13: =[1]ماهانه!$IA$20 -> 19539.5 | I13: =[1]ماهانه!$IA$20 -> 19539.5 | K13: =+H13/G13*100-100 -> -6.2105418 | L13: =+H13/E13*100-100 -> 6.3170844 | M13: =+I13/D13*100-100 -> 2.5740655
C14: شاخص صکوک | D14: =[1]ماهانه!$HO$37 -> 494.5298 | E14: =[1]ماهانه!$HW$37 -> 554.2 | G14: =[2]ماهانه!$HZ$37 -> 579.29934 | H14: =[1]ماهانه!$IA$37 -> 587 | I14: =[1]ماهانه!$IA$37 -> 587 | K14: =+H14/G14*100-100 -> 1.3293062 | L14: =+H14/E14*100-100 -> 5.918441 | M14: =+I14/D14*100-100 -> 18.698609
C15: ارزش بازار سهام | D15: =[1]ماهانه!$HO$24 -> 14292.872 | E15: =[1]ماهانه!$HW$24 -> 13554.45 | G15: =[1]ماهانه!$HZ$24 -> 15286.079 | H15: =[1]ماهانه!$IA$24 -> 14512.751 | I15: =[1]ماهانه!$IA$24 -> 14512.751 | K15: =+H15/G15*100-100 -> -5.0590335 | L15: =+H15/E15*100-100 -> 7.0700112 | M15: =+I15/D15*100-100 -> 1.5383839
C16: ارزش بازار بدهي | D16: =[1]ماهانه!$HO$25 -> 2671.6207 | E16: =[1]ماهانه!$HW$25 -> 3780.9463 | G16: =[1]ماهانه!$HZ$25 -> 3699.7562 | H16: =[1]ماهانه!$IA$25 -> 3707.2552 | I16: =[1]ماهانه!$IA$25 -> 3707.2552 | K16: =+H16/G16*100-100 -> 0.20268716 | L16: =+H16/E16*100-100 -> -1.9490128 | M16: =+I16/D16*100-100 -> 38.764278
C17: مانده اوراق بدهي (1) | D17: =D18+D19+D20 -> 3555.494 | E17: =E18+E19+E20 -> 5108.0746 | G17: =G18+G19+G20 -> 5040.7066 | H17: =H18+H19+H20 -> 5068.5936 | I17: =I18+I19+I20 -> 5068.5936 | K17: =+H17/G17*100-100 -> 0.55323593 | L17: =+H17/E17*100-100 -> -0.77291354 | M17: =+I17/D17*100-100 -> 42.556662
C18: دولتي | D18: ='[3]تامین مالی - مانده'!$AO$3/1000 -> 2943.944 | E18: ='[3]تامین مالی - مانده'!$AW$3/1000 -> 4343.25 | G18: ='[3]تامین مالی - مانده'!$AZ$3/1000 -> 4216.752 | H18: ='[3]تامین مالی - مانده'!$BA$3/1000 -> 4215.949 | I18: ='[3]تامین مالی - مانده'!$BA$3/1000 -> 4215.949 | K18: =+H18/G18*100-100 -> -0.019043093 | L18: =+H18/E18*100-100 -> -2.9310079 | M18: =+I18/D18*100-100 -> 43.207513
C19: شهرداري ها | D19: ='[3]تامین مالی - مانده'!$AO$10/1000 -> 66.1 | E19: ='[3]تامین مالی - مانده'!$AW$10/1000 -> 91.665 | G19: ='[3]تامین مالی - مانده'!$AZ$10/1000 -> 109.865 | H19: ='[3]تامین مالی - مانده'!$BA$10/1000 -> 112.165 | I19: ='[3]تامین مالی - مانده'!$BA$10/1000 -> 112.165 | K19: =+H19/G19*100-100 -> 2.0934784 | L19: =+H19/E19*100-100 -> 22.364043 | M19: =+I19/D19*100-100 -> 69.689864
C20: شرکتي | D20: ='[3]تامین مالی - مانده'!$AO$12/1000 -> 545.45 | E20: ='[3]تامین مالی - مانده'!$AW$12/1000 -> 673.15955 | G20: ='[3]تامین مالی - مانده'!$AZ$12/1000 -> 714.08955 | H20: ='[3]تامین مالی - مانده'!$BA$12/1000 -> 740.47955 | I20: ='[3]تامین مالی - مانده'!$BA$12/1000 -> 740.47955 | K20: =+H20/G20*100-100 -> 3.6956149 | L20: =+H20/E20*100-100 -> 10.000601 | M20: =+I20/D20*100-100 -> 35.755716
B21: ارزش صندوق هاي قابل معامله (2) | D21: =[1]ماهانه!$HO$16+[1]ماهانه!$HO$35+[1]ماهانه!$HO$41+[1]ماهانه!$HO$47 -> 819.15092 | E21: =[1]ماهانه!$HW$16+[1]ماهانه!$HW$35+[1]ماهانه!$HW$41+[1]ماهانه!$HW$47 -> 1024.8505 | G21: =[1]ماهانه!$HZ$16+[1]ماهانه!$HZ$35+[1]ماهانه!$HZ$41+[1]ماهانه!$HZ$47 -> 1238.2791 | H21: =[1]ماهانه!$IA$16+[1]ماهانه!$IA$35+[1]ماهانه!$IA$41+[1]ماهانه!$IA$47 -> 1341.3131 | I21: =[1]ماهانه!$IA$16+[1]ماهانه!$IA$35+[1]ماهانه!$IA$41+[1]ماهانه!$IA$47 -> 1341.3131 | K21: =+H21/G21*100-100 -> 8.3207454 | L21: =+H21/E21*100-100 -> 30.878909 | M21: =+I21/D21*100-100 -> 63.744321
B22: اندازه بازار اوراق بهادار (3) | D22: =D21+D16+D15+D10+D9 -> 71467.873 | E22: =E21+E16+E15+E10+E9 -> 72309.203 | G22: =G21+G16+G15+G10+G9 -> 81616.564 | H22: =H21+H16+H15+H10+H9 -> 77156.452 | I22: =I21+I16+I15+I10+I9 -> 77156.452 | K22: =+H22/G22*100-100 -> -5.464714 | L22: =+H22/E22*100-100 -> 6.703503 | M22: =+I22/D22*100-100 -> 7.959631
B23: مجموع تامين مالي از طريق بازار سرمايه (4) | D23: 997.4 | E23: ='[3]ارزش جذب و تجهیز منابع مالی'!$BE$11/1000 -> 7180.775 | G23: =('[3]ارزش جذب و تجهیز منابع مالی'!$BH$11-'[3]ارزش جذب و تجهیز منابع مالی'!$BG$11)/1000 -> 270.097 | H23: =('[3]ارزش جذب و تجهیز منابع مالی'!$BI$11-'[3]ارزش جذب و تجهیز منابع مالی'!$BH$11)/1000 -> 486.954 | I23: ='[3]ارزش جذب و تجهیز منابع مالی'!$BI$11/1000 -> 1121.904 | K23: =+H23/G23*100-100 -> 80.288563 | L23: _ | M23: =+I23/D23*100-100 -> 12.482855
B24: ماخذ: شرکت بورس اوراق بهادار، شرکت فرابورس، سازمان بورس و اوراق بهادار
B25: 1- مانده اوراق بدهی به ارزش اسمی می باشد.
B26: 2- ارزش صندوق های قابل معامله شامل ارزش این صندوق در بازارهای بورس، فرابورس، بورس کالا و بورس انرژی می باشد.
B27: 3- اندازه بازار اوراق بهادار شامل مجموع ارزش بازار سهام، بدهی و ارزش صندوقهای قابل معامله می باشد.
B28: 4- شامل افزایش ارزش صندوق های سرمایه گذاری مشترک نمی باشد.

Sheet اوراق مالی اسلامی
B4: (هزار میلیارد ریال) | C4: وضعیت فروش اوراق تا پایان تیر 1401 | K4: 2
B5: عنوان | C5: 1400 | F5: 1401 | J5: درصد تغييرات
C6: چهار | D6: پايان | F6: خرداد | G6: تیر | H6: چهار | J6: تیرماه به | K6: چهار ماهه 1401 به
C7: ماهه | D7: سال | F7: ماه | G7: ماه | H7: ماهه | J7: ماه گذشته | K7: چهار ماهه 1400 ‌
B8: اوراق بدهی دولتی | C8: =C9+C10+C11+C12+C13 -> 252.45 | D8: =D9+D10+D11+D12+D13 -> 2184.9999 | F8: ='[3]تامین مالی - انتشار'!$AZ$2/1000 -> 135.502 | G8: ='[3]تامین مالی - انتشار'!$BA$2/1000 -> 99.197 | H8: =SUM('[3]تامین مالی - انتشار'!$AX$2:$BA$2)/1000 -> 242.699 | J8: =G8/F8*100-100 -> -26.792962 | K8: =+H8/C8*100-100 -> -3.862547
B9: اسناد خزانه اسلامي | C9: =('[3]تامین مالی - انتشار'!$AL$3+'[3]تامین مالی - انتشار'!$AM$3+'[3]تامین مالی - انتشار'!$AN$3+'[3]تامین مالی - انتشار'!$AO$3)/1000 -> 200 | D9: =SUM('[3]تامین مالی - انتشار'!$AL$3:$AW$3)/1000 -> 1165 | F9: ='[3]تامین مالی - انتشار'!$AZ$3/1000 -> 0 | G9: ='[3]تامین مالی - انتشار'!$BA$3/1000 -> 0 | H9: =SUM('[3]تامین مالی - انتشار'!$AX$3:$BA$3)/1000 -> 0 | J9: θ | K9: =+H9/C9*100-100 -> -100
B10: اوراق سلف موازی استاندارد | C10: =('[3]تامین مالی - انتشار'!$AL$4+'[3]تامین مالی - انتشار'!$AM$4+'[3]تامین مالی - انتشار'!$AN$4+'[3]تامین مالی - انتشار'!$AO$4)/1000 -> 0 | D10: =SUM('[3]تامین مالی - انتشار'!$AL$4:$AW$4)/1000 -> 153 | F10: ='[3]تامین مالی - انتشار'!$AZ$4/1000 -> 0 | G10: ='[3]تامین مالی - انتشار'!$BA$4/1000 -> 0 | H10: =SUM('[3]تامین مالی - انتشار'!$AX$4:$BA$4)/1000 -> 0 | J10: θ | K10: θ
B11: اوراق مرابحه | C11: =('[3]تامین مالی - انتشار'!$AL$6+'[3]تامین مالی - انتشار'!$AM$6+'[3]تامین مالی - انتشار'!$AN$6+'[3]تامین مالی - انتشار'!$AO$6)/1000 -> 52.45 | D11: =SUM('[3]تامین مالی - انتشار'!$AL$6:$AW$6)/1000 -> 839.9999 | F11: ='[3]تامین مالی - انتشار'!$AZ$6/1000 -> 135.502 | G11: ='[3]تامین مالی - انتشار'!$BA$6/1000 -> 99.197 | H11: =SUM('[3]تامین مالی - انتشار'!$AX$6:$BA$6)/1000 -> 234.699 | J11: =G11/F11*100-100 -> -26.792962 | K11: =+H11/C11*100-100 -> 347.47188
B12: اوراق منفعت | C12: =SUM('[3]تامین مالی - انتشار'!$AL$7:$AO$7)/1000 -> 0 | D12: =SUM('[3]تامین مالی - انتشار'!$AL$7:$AW$7)/1000 -> 0 | F12: ='[3]تامین مالی - انتشار'!$AZ$7/1000 -> 0 | G12: ='[3]تامین مالی - انتشار'!$BA$7/1000 -> 0 | H12: =SUM('[3]تامین مالی - انتشار'!$AX$7:$BA$7)/1000 -> 0 | J12: θ | K12: θ
B13: اوراق اجاره | C13: =SUM('[3]تامین مالی - انتشار'!$AL$8:$AO$8)/1000 -> 0 | D13: =SUM('[3]تامین مالی - انتشار'!$AL$8:$AW$8)/1000 -> 27 | F13: ='[3]تامین مالی - انتشار'!$AZ$8*1000 -> 0 | G13: ='[3]تامین مالی - انتشار'!$BA$8*1000 -> 0 | H13: =SUM('[3]تامین مالی - انتشار'!$AX$8:$BA$8)/1000 -> 8 | J13: θ | K13: θ
B14: اوراق بدهی شهرداری | C14: =C15 -> 67.181796 | D14: 114.6596 | F14: ='[3]تامین مالی - انتشار'!$AZ$9/1000 -> 0 | G14: ='[3]تامین مالی - انتشار'!$BA$9/1000+'[4]کل تا پایان تیر'!$G$22/1000000 -> 82.287191 | H14: =SUM('[3]تامین مالی - انتشار'!$AX$9:$BA$9)/1000+'[4]کل تا پایان تیر'!$G$22/1000000 -> 100.48719 | J14: θ | K14: =+H14/C14*100-100 -> 49.575029
B15: اوراق مشاركت | C15: ='[5]کل تا پایان تیرماه '!$G$22+'[3]تامین مالی - انتشار'!$AO$30/1000 -> 67.181796 | D15: ='[6]کل تا پایان اسفند'!$G$45+'[3]تامین مالی - انتشار'!$AU$30 -> 114.6596 | F15: ='[3]تامین مالی - انتشار'!$AZ$10/1000 -> 0 | G15: ='[3]تامین مالی - انتشار'!$BA$10/1000+'[4]کل تا پایان تیر'!$G$22/1000000 -> 82.287191 | H15: =SUM('[3]تامین مالی - انتشار'!$AX$10:$BA$10)/1000+'[4]کل تا پایان تیر'!$G$22/1000000 -> 100.48719 | J15: θ | K15: =+H15/C15*100-100 -> 49.575029
B16: اوراق بدهی شرکتی | C16: =SUM('[3]تامین مالی - انتشار'!$AL$11:$AO$11)/1000 -> 82.7 | D16: =SUM('[3]تامین مالی - انتشار'!$AL$11:$AW$11)/1000 -> 321.05 | F16: ='[3]تامین مالی - انتشار'!$AZ$11/1000 -> 11.5 | G16: ='[3]تامین مالی - انتشار'!$BA$11/1000 -> 42.29 | H16: =SUM('[3]تامین مالی - انتشار'!$AX$11:$BA$11)/1000 -> 113.64 | J16: =G16/F16*100-100 -> 267.73913 | K16: =+H16/C16*100-100 -> 37.412334
B17: مجموع اوراق بدهی منتشره | C17: =C8+C14+C16 -> 402.3318 | D17: 2620.7095 | F17: =+F8+F14+F16 -> 147.002 | G17: =+G8+G14+G16 -> 223.77419 | H17: =+H8+H14+H16 -> 456.82619 | J17: =G17/F17*100-100 -> 52.22527 | K17: =+H17/C17*100-100 -> 13.54464
B18: مأخذ: بانک مرکزی ج.ا.ا، شرکت فرابورس و سازمان بورس و اوراق بهادار
