Workbook
Name ben: #REF!
Name bene: #REF!
Name benef: #REF!
Name benefit: #REF!
Name benefit1: #REF!
Name benefit2: #REF!
Name benefit3: #REF!
Name benefit4: #REF!
Name benefit5: #REF!
Name benefit6: #REF!
Name benefit7: #REF!
Name benefit8: #REF!
Name benefit9: #REF!
Name published: #REF!
Name purchace: #REF!
Name received: #REF!

Sheet شاخص فعالیت 
B3: (هزار ميليارد ريال- ميليارد سهم) | D3: شاخص ها و نماگرهاي بازار اوراق بهادار تهران | M3: 1
B4: عنوان | D4: 1400 | G4: 1401 | K4: درصد تغييرات
D5: هفت | E5: پايان | G5: شهریور | H5: مهر | I5: هفت | K5: مهرماه1401 به | L5: مهرماه1401 به | M5: هفت ماهه 1401 به
D6: ماهه | E6: سال | G6: ماه | H6: ماه | I6: ماهه | K6: ماه گذشته | L6: پايان سال 1400 | M6: هفت ‌ماهه1400 ‌
B7: بورس اوراق بهادار تهران | C7: شاخص کل | D7: 1436357 | E7: 1367250 | G7: =[1]ماهانه!$IC$5 -> 1355240.9 | H7: =[1]ماهانه!$ID$5 -> 1308959.9 | I7: =H7 -> 1308959.9 | K7: =+H7/G7*100-100 -> -3.4149633 | L7: =+H7/E7*100-100 -> -4.2633059 | M7: =+I7/D7*100-100 -> -8.8694559
C8: شاخص هم وزن | D8: 397263 | E8: 348269 | G8: =[1]ماهانه!$IC$8 -> 395678 | H8: =[1]ماهانه!$ID$8 -> 378995.18 | I8: =H8 -> 378995.18 | K8: =+H8/G8*100-100 -> -4.2162625 | L8: =+H8/E8*100-100 -> 8.8225415 | M8: =+I8/D8*100-100 -> -4.5984204
C9: ارزش بازار سهام | D9: 57718.252 | E9: =[1]ماهانه!$HW$11 -> 53604.562 | G9: =[1]ماهانه!$IC$11 -> 51062.26 | H9: =[1]ماهانه!$ID$11 -> 49056.638 | I9: =H9 -> 49056.638 | K9: =+H9/G9*100-100 -> -3.9277972 | L9: =+H9/E9*100-100 -> -8.4842107 | M9: =+I9/D9*100-100 -> -15.006716
C10: ارزش بازار بدهي | D10: =[1]ماهانه!$HR$12 -> 269.87241 | E10: =[1]ماهانه!$HW$12 -> 344.39414 | G10: =[1]ماهانه!$IC$12 -> 443.27291 | H10: =[1]ماهانه!$ID$12 -> 447.61591 | I10: =H10 -> 447.61591 | K10: =+H10/G10*100-100 -> 0.97975609 | L10: =+H10/E10*100-100 -> 29.971987 | M10: =+I10/D10*100-100 -> 65.862051
C11: ارزش معاملات | D11: =SUM([1]ماهانه!$HL$9:$HR$9) -> 6010.2704 | E11: 8849.3977 | G11: =[1]ماهانه!$IC$9 -> 456.115 | H11: =[1]ماهانه!$ID$9 -> 289.22603 | I11: =SUM([1]ماهانه!$HX$9:$ID$9) -> 4246.9237 | K11: =+H11/G11*100-100 -> -36.58923 | L11: _ | M11: =+I11/D11*100-100 -> -29.33889
C12: حجم معاملات | D12: =SUM([1]ماهانه!$HL$10:$HR$10) -> 882.842 | E12: =SUM([1]ماهانه!$HL$10:$HW$10) -> 1407.412 | G12: =[1]ماهانه!$IC$10 -> 90.404 | H12: =[1]ماهانه!$ID$10 -> 78.908332 | I12: =SUM([1]ماهانه!$HX$10:$ID$10) -> 954.64533 | K12: =+H12/G12*100-100 -> -12.715884 | L12: _ | M12: =+I12/D12*100-100 -> 8.133203
B13: فرابورس | C13: شاخص کل | D13: 20247.414 | E13: =[1]ماهانه!$HW$20 -> 18378.513 | G13: =[1]ماهانه!$IC$20 -> 18397 | H13: =[1]ماهانه!$ID$20 -> 17854.813 | I13: =H13 -> 17854.813 | K13: =+H13/G13*100-100 -> -2.9471512 | L13: =+H13/E13*100-100 -> -2.8495275 | M13: =+I13/D13*100-100 -> -11.816826
C14: شاخص صکوک | D14: =[1]ماهانه!$HR$37 -> 508.33364 | E14: =[1]ماهانه!$HW$37 -> 554.2 | G14: 606.71666 | H14: 612.73958 | I14: =H14 -> 612.73958 | K14: =+H14/G14*100-100 -> 0.99270718 | L14: =+H14/E14*100-100 -> 10.562898 | M14: =+I14/D14*100-100 -> 20.53886
C15: ارزش بازار سهام | D15: =[1]ماهانه!$HR$24 -> 15039.957 | E15: =[1]ماهانه!$HW$24 -> 13554.45 | G15: =[1]ماهانه!$IC$24 -> 13872.492 | H15: =[1]ماهانه!$ID$24 -> 13312.829 | I15: =H15 -> 13312.829 | K15: =+H15/G15*100-100 -> -4.0343351 | L15: =+H15/E15*100-100 -> -1.7825927 | M15: =+I15/D15*100-100 -> -11.483597
C16: ارزش بازار بدهي | D16: =[1]ماهانه!$HR$25 -> 3417.7505 | E16: =[1]ماهانه!$HW$25 -> 3780.9463 | G16: =[1]ماهانه!$IC$25 -> 3999.0547 | H16: =[1]ماهانه!$ID$25 -> 4033.8706 | I16: =H16 -> 4033.8706 | K16: =+H16/G16*100-100 -> 0.87060465 | L16: =+H16/E16*100-100 -> 6.6894454 | M16: =+I16/D16*100-100 -> 18.027064
C17: مانده اوراق بدهي (1) | D17: =D18+D19+D20 -> 4561.0624 | E17: =E18+E19+E20 -> 5108.0743 | G17: =G18+G19+G20 -> 5369.6849 | H17: =H18+H19+H20 -> 5394.0795 | I17: =I18+I19+I20 -> 5394.0795 | K17: =+H17/G17*100-100 -> 0.45430204 | L17: =+H17/E17*100-100 -> 5.5990807 | M17: =+I17/D17*100-100 -> 18.263664
C18: دولتي | D18: ='[2]تامین مالی - مانده'!$AR$3/1000 -> 3972.7128 | E18: ='[2]تامین مالی - مانده'!$AW$3/1000 -> 4316.2497 | G18: ='[2]تامین مالی - مانده'!$BC$3/1000 -> 4333.743 | H18: ='[2]تامین مالی - مانده'!$BD$3/1000 -> 4216.507 | I18: =H18 -> 4216.507 | K18: =+H18/G18*100-100 -> -2.7051895 | L18: =+H18/E18*100-100 -> -2.3108651 | M18: =+I18/D18*100-100 -> 6.1367178
C19: شهرداري ها | D19: ='[2]تامین مالی - مانده'!$AR$10/1000 -> 66.1 | E19: ='[2]تامین مالی - مانده'!$AW$10/1000 -> 91.665 | G19: ='[2]تامین مالی - مانده'!$BC$10/1000 -> 116.035 | H19: ='[2]تامین مالی - مانده'!$BD$10/1000 -> 123.535 | I19: =H19 -> 123.535 | K19: =+H19/G19*100-100 -> 6.463567 | L19: =+H19/E19*100-100 -> 34.767905 | M19: =+I19/D19*100-100 -> 86.891074
C20: شرکتي | D20: ='[2]تامین مالی - مانده'!$AR$12/1000 -> 522.24955 | E20: ='[2]تامین مالی - مانده'!$AW$12/1000 -> 700.15955 | G20: ='[2]تامین مالی - مانده'!$BC$12/1000 -> 919.90692 | H20: ='[2]تامین مالی - مانده'!$BD$12/1000 -> 1054.0375 | I20: =H20 -> 1054.0375 | K20: =+H20/G20*100-100 -> 14.580882 | L20: =+H20/E20*100-100 -> 50.542467 | M20: =+I20/D20*100-100 -> 101.8264
B21: ارزش صندوق هاي قابل معامله (2) | D21: =[1]ماهانه!$HR$47+[1]ماهانه!$HR$41+[1]ماهانه!$HR$35+[1]ماهانه!$HR$16 -> 907.36705 | E21: =[1]ماهانه!$HW$16+[1]ماهانه!$HW$35+[1]ماهانه!$HW$41+[1]ماهانه!$HW$47 -> 1024.8505 | G21: =[1]ماهانه!$IC$47+[1]ماهانه!$IC$41+[1]ماهانه!$IC$35+[1]ماهانه!$IC$16 -> 1443.4178 | H21: =[1]ماهانه!$ID$47+[1]ماهانه!$ID$41+[1]ماهانه!$ID$35+[1]ماهانه!$ID$16 -> 1478.337 | I21: =H21 -> 1478.337 | K21: =+H21/G21*100-100 -> 2.4192048 | L21: =+H21/E21*100-100 -> 44.249044 | M21: =+I21/D21*100-100 -> 62.926015
B22: اندازه بازار اوراق بهادار (3) | D22: =D21+D16+D15+D10+D9 -> 77353.199 | E22: =E21+E16+E15+E10+E9 -> 72309.203 | G22: =G21+G16+G15+G10+G9 -> 70820.497 | H22: =H21+H16+H15+H10+H9 -> 68329.291 | I22: =I21+I16+I15+I10+I9 -> 68329.291 | K22: =+H22/G22*100-100 -> -3.517635 | L22: =+H22/E22*100-100 -> -5.5040186 | M22: =+I22/D22*100-100 -> -11.665851
B23: مجموع تامين مالي از طريق بازار سرمايه (4) | D23: ='[2]ارزش جذب و تجهیز منابع مالی'!$AZ$11/1000 -> 3004.803 | E23: ='[2]ارزش جذب و تجهیز منابع مالی'!$BE$11/1000 -> 7180.775 | G23: =('[2]ارزش جذب و تجهیز منابع مالی'!$BK$11-'[2]ارزش جذب و تجهیز منابع مالی'!$BJ$11)/1000 -> 578.735 | H23: =('[2]ارزش جذب و تجهیز منابع مالی'!$BL$11-'[2]ارزش جذب و تجهیز منابع مالی'!$BK$11)/1000 -> 239.233 | I23: ='[2]ارزش جذب و تجهیز منابع مالی'!$BL$11/1000 -> 2255.528 | K23: =+H23/G23*100-100 -> -58.662773 | L23: _ | M23: =+I23/D23*100-100 -> -24.935911
B24: ماخذ: شرکت بورس اوراق بهادار، شرکت فرابورس، سازمان بورس و اوراق بهادار
B25: 1- مانده اوراق بدهی به ارزش اسمی می باشد.
B26: 2- ارزش صندوق های قابل معامله شامل ارزش این صندوق در بازارهای بورس، فرابورس، بورس کالا و بورس انرژی می باشد.
B27: 3- اندازه بازار اوراق بهادار شامل مجموع ارزش بازار سهام، بدهی و ارزش صندوقهای قابل معامله می باشد.
B28: 4- شامل افزایش ارزش صندوق های سرمایه گذاری مشترک نمی باشد.
B29: توجه: در گزارش مهرماه سازمان بورس اوراق بهادار، اوراق اجاره در قالب اوراق بدهی شرکتی لحاظ شده است.

Sheet اوراق مالی اسلامی
B5: (هزار میلیارد ریال) | C5: وضعیت فروش اوراق تا پایان مهر 1401 | K5: 2
B6: عنوان | C6: 1400 | F6: 1401 | J6: درصد تغييرات
C7: هفت | D7: پايان | F7: شهریور | G7: مهر | H7: هفت | J7: مهرماه به | K7: هفت ماهه 1401 به
C8: ماهه | D8: سال | F8: ماه | G8: ماه | H8: ماهه | J8: ماه گذشته | K8: هفت ماهه 1400 ‌
B9: اوراق بدهی دولتی | C9: =C10+C11+C12+C13 -> 1520 | D9: =D10+D11+D12+D13 -> 2158 | E9: =E10+E11+E12+E13 -> 0 | F9: =F10+F11+F12+F13 -> 356.08155 | G9: =G10+G11+G12+G13 -> 27.843042 | H9: =H10+H11+H12+H13 -> 695.57434 | J9: =G9/F9*100-100 -> -92.180712 | K9: =+H9/C9*100-100 -> -54.23853
B10: اسناد خزانه اسلامي | C10: =SUM('[2]تامین مالی - انتشار'!$AL$3:$AR$3)/1000 -> 1065 | D10: =SUM('[2]تامین مالی - انتشار'!$AL$3:$AW$3)/1000 -> 1165 | F10: ='[2]تامین مالی - انتشار'!$BC$3/1000 -> 150 | G10: ='[2]تامین مالی - انتشار'!$BD$3/1000 -> 0 | H10: =SUM('[2]تامین مالی - انتشار'!$AX$3:$BD$3)/1000 -> 150 | J10: -100 | K10: =+H10/C10*100-100 -> -85.915493
B11: اوراق سلف موازی استاندارد | C11: =SUM('[2]تامین مالی - انتشار'!$AL$4:$AR$4)/1000 -> 115 | D11: =SUM('[2]تامین مالی - انتشار'!$AL$4:$AW$4)/1000 -> 153 | F11: ='[2]تامین مالی - انتشار'!$BC$4/1000 -> 0 | G11: ='[2]تامین مالی - انتشار'!$BD$4/1000 -> 0 | H11: =SUM('[2]تامین مالی - انتشار'!$AX$4:$BD$4)/1000 -> 0 | J11: Ө | K11: -100
B12: اوراق مرابحه | C12: =SUM('[2]تامین مالی - انتشار'!$AL$6:$AR$6)/1000 -> 340 | D12: =SUM('[2]تامین مالی - انتشار'!$AL$6:$AW$6)/1000 -> 840 | F12: ='[2]تامین مالی - انتشار'!$BC$6/1000 -> 206.08155 | G12: ='[2]تامین مالی - انتشار'!$BD$6/1000 -> 27.843042 | H12: =SUM('[2]تامین مالی - انتشار'!$AX$6:$BD$6)/1000 -> 545.57434 | J12: =G12/F12*100-100 -> -86.489309 | K12: =+H12/C12*100-100 -> 60.463043
B13: اوراق منفعت | C13: =SUM('[2]تامین مالی - انتشار'!$AL$7:$AR$7)/1000 -> 0 | D13: =SUM('[3]تامین مالی - انتشار'!$AL$7:$AW$7)/1000 -> 0 | F13: ='[2]تامین مالی - انتشار'!$BC$7/1000 -> 0 | G13: ='[2]تامین مالی - انتشار'!$BD$7/1000 -> 0 | H13: =SUM('[2]تامین مالی - انتشار'!$AX$7:$BD$7)/1000 -> 0 | J13: Ө | K13: Ө
B14: اوراق بدهی شهرداری | C14: =C15 -> 81.081794 | D14: 114.6596 | F14: =F15 -> 0 | G14: =G15 -> 7.5 | H14: =H15 -> 111.85719 | J14: Ө | K14: =+H14/C14*100-100 -> 37.955989
B15: اوراق مشاركت | C15: ='[4]کل تا پایان مهر'!$G$26+SUM('[2]تامین مالی - انتشار'!$AL$10:$AR$10)/1000 -> 81.081794 | D15: ='[5]کل تا پایان اسفند'!$G$45+SUM('[2]تامین مالی - انتشار'!$AL$10:$AW$10)/1000 -> 114.6596 | F15: ='[2]تامین مالی - انتشار'!$BC$10/1000 -> 0 | G15: ='[2]تامین مالی - انتشار'!$BD$10/1000 -> 7.5 | H15: ='[6]کل تا پایان تیر'!$G$22/1000000+SUM('[2]تامین مالی - انتشار'!$AX$10:$BD$10)/1000 -> 111.85719 | J15: Ө | K15: =+H15/C15*100-100 -> 37.955989
B16: اوراق بدهی شرکتی | C16: =SUM('[2]تامین مالی - انتشار'!$AL$11:$AR$11)/1000 -> 113.5 | D16: 348.05 | F16: ='[2]تامین مالی - انتشار'!$BC$11/1000 -> 61.527364 | G16: ='[2]تامین مالی - انتشار'!$BD$11/1000 -> 154.33055 | H16: =SUM('[2]تامین مالی - انتشار'!$AX$11:$BD$11)/1000 -> 467.19791 | J16: =G16/F16*100-100 -> 150.83237 | K16: =+H16/C16*100-100 -> 311.62811
B17: مجموع اوراق بدهی منتشره | C17: =C9+C14+C16 -> 1714.5818 | D17: =D9+D14+D16 -> 2620.7096 | F17: =+F9+F14+F16 -> 417.60891 | G17: =+G9+G14+G16 -> 189.67359 | H17: =+H9+H14+H16 -> 1274.6294 | J17: =G17/F17*100-100 -> -54.581049 | K17: =+H17/C17*100-100 -> -25.659455
B18: مأخذ: بانک مرکزی ج.ا.ا، شرکت فرابورس و سازمان بورس و اوراق بهادار
B19: توجه: در گزارش مهرماه سازمان بورس اوراق بهادار، اوراق اجاره در قالب اوراق بدهی شرکتی لحاظ شده است.
