Workbook
Name ben: #REF!
Name bene: #REF!
Name benef: #REF!
Name benefit: #REF!
Name benefit1: #REF!
Name benefit2: #REF!
Name benefit3: #REF!
Name benefit4: #REF!
Name benefit5: #REF!
Name benefit6: #REF!
Name benefit7: #REF!
Name benefit8: #REF!
Name benefit9: #REF!
Name published: #REF!
Name purchace: #REF!
Name received: #REF!

Sheet شاخص فعالیت 
B3: (هزار ميليارد ريال- ميليارد سهم) | D3: شاخص ها و نماگرهاي بازار اوراق بهادار تهران | M3: 1
B4: عنوان | D4: 1400 | G4: 1401 | K4: درصد تغييرات
D5: نه | E5: پايان | G5: آبان | H5: آذر | I5: نه | K5: آذر ماه1401 به | L5: آذرماه1401 به | M5: نه ماهه 1401 به
D6: ماهه | E6: سال | G6: ماه | H6: ماه | I6: ماهه | K6: ماه گذشته | L6: پايان سال 1400 | M6: نه ‌ماهه1400 ‌
B7: بورس اوراق بهادار تهران | C7: شاخص کل | D7: =[1]ماهانه!$HT$5 -> 1318360 | E7: 1367250 | G7: 1408598 | H7: =[1]ماهانه!$IF$5 -> 1496200.8 | I7: =[1]ماهانه!$IF$5 -> 1496200.8 | K7: =((H7-G7)/G7)*100 -> 6.2191449 | L7: =((H7-E7)/E7)*100 -> 9.4313951 | M7: =((I7-D7)/D7)*100 -> 13.489544
C8: شاخص هم وزن | D8: =[1]ماهانه!$HT$8 -> 348209 | E8: 348269 | G8: 404471 | H8: =[1]ماهانه!$IF$8 -> 445721.42 | I8: =[1]ماهانه!$IF$8 -> 445721.42 | K8: =((H8-G8)/G8)*100 -> 10.198611 | L8: =((H8-E8)/E8)*100 -> 27.981941 | M8: =((I8-D8)/D8)*100 -> 28.003993
C9: ارزش بازار سهام | D9: =[1]ماهانه!$HT$11 -> 53040.022 | E9: =[1]ماهانه!$HW$11 -> 54674.136 | G9: =[1]ماهانه!$IE$11 -> 52244.325 | H9: =[1]ماهانه!$IF$11 -> 55505.662 | I9: =[1]ماهانه!$IF$11 -> 55505.662 | K9: =((H9-G9)/G9)*100 -> 6.2424726 | L9: =((H9-E9)/E9)*100 -> 1.5208774 | M9: =((I9-D9)/D9)*100 -> 4.6486413
C10: ارزش بازار بدهي | D10: =[1]ماهانه!$HT$12 -> 311.22631 | E10: 344.39414 | G10: 446.32738 | H10: =[1]ماهانه!$IF$12 -> 521.20079 | I10: =[1]ماهانه!$IF$12 -> 521.20079 | K10: =((H10-G10)/G10)*100 -> 16.775445 | L10: =((H10-E10)/E10)*100 -> 51.338459 | M10: =((I10-D10)/D10)*100 -> 67.466813
C11: ارزش معاملات | D11: =SUM([1]ماهانه!$HL$9:$HT$9) -> 7255.9714 | E11: 8849.3977 | G11: 657.9 | H11: =[1]ماهانه!$IF$9 -> 1745.9081 | I11: =SUM([1]ماهانه!$HX$9:$IF$9)+0.03 -> 6650.7804 | K11: =((H11-G11)/G11)*100 -> 165.37591 | L11: _ | M11: =((I11-D11)/D11)*100 -> -8.340593
C12: حجم معاملات | D12: =SUM([1]ماهانه!$HL$10:$HT$10) -> 1095.891 | E12: 1407.412 | G12: 146.9 | H12: =[1]ماهانه!$IF$10 -> 217.11439 | I12: =SUM([1]ماهانه!$HX$10:$IF$10) -> 1318.6165 | K12: =((H12-G12)/G12)*100 -> 47.797409 | L12: _ | M12: =((I12-D12)/D12)*100 -> 20.323687
B13: فرابورس | C13: شاخص کل | D13: =[1]ماهانه!$HT$20 -> 18523.719 | E13: 18378.513 | G13: 18510 | H13: =[1]ماهانه!$IF$20 -> 19172.946 | I13: =[1]ماهانه!$IF$20 -> 19172.946 | K13: =((H13-G13)/G13)*100 -> 3.5815575 | L13: =((H13-E13)/E13)*100 -> 4.3226178 | M13: =((I13-D13)/D13)*100 -> 3.5048426
C14: شاخص صکوک | D14: =[1]ماهانه!$HT$37 -> 521.3017 | E14: 554.2 | G14: 622.9 | H14: =[1]ماهانه!$IF$37 -> 627.15731 | I14: =[1]ماهانه!$IF$37 -> 627.15731 | K14: =((H14-G14)/G14)*100 -> 0.68346563 | L14: =((H14-E14)/E14)*100 -> 13.164437 | M14: =((I14-D14)/D14)*100 -> 20.306016
C15: ارزش بازار سهام | D15: =[1]ماهانه!$HT$24 -> 13520.595 | E15: 13554.45 | G15: 13713.752 | H15: =[1]ماهانه!$IF$24 -> 14371.983 | I15: =[1]ماهانه!$IF$24 -> 14371.983 | K15: =((H15-G15)/G15)*100 -> 4.7997858 | L15: =((H15-E15)/E15)*100 -> 6.0314727 | M15: =((I15-D15)/D15)*100 -> 6.2969679
C16: ارزش بازار بدهي | D16: =[1]ماهانه!$HT$25 -> 3388.0767 | E16: 3780.9463 | G16: 4210.6828 | H16: =[1]ماهانه!$IF$25 -> 4265.3918 | I16: =[1]ماهانه!$IF$25 -> 4265.3918 | K16: =((H16-G16)/G16)*100 -> 1.2992904 | L16: =((H16-E16)/E16)*100 -> 12.812813 | M16: =((I16-D16)/D16)*100 -> 25.894192
C17: مانده اوراق بدهي (1) | D17: =SUM(D18:D20) -> 4651.0962 | E17: 5108.0743 | G17: =SUM(G18:G20) -> 5666.2286 | H17: =SUM(H18:H20) -> 5907.897 | I17: =SUM(I18:I20) -> 5907.897 | K17: =((H17-G17)/G17)*100 -> 4.265067 | L17: =((H17-E17)/E17)*100 -> 15.658009 | M17: =((I17-D17)/D17)*100 -> 27.021603
C18: دولتي | D18: =[1]ماهانه!$HT$32 -> 3984.7317 | E18: 4316.2497 | G18: 4375.906 | H18: =[1]ماهانه!$IF$32 -> 4340.806 | I18: =[1]ماهانه!$IF$32 -> 4340.806 | K18: =((H18-G18)/G18)*100 -> -0.80211961 | L18: =((H18-E18)/E18)*100 -> 0.56892665 | M18: =((I18-D18)/D18)*100 -> 8.9359674
C19: شهرداري ها | D19: =[1]ماهانه!$HT$33 -> 74.365 | E19: 91.665 | G19: 124.535 | H19: =[1]ماهانه!$IF$33 -> 124.535 | I19: =[1]ماهانه!$IF$33 -> 124.535 | K19: =((H19-G19)/G19)*100 -> 0 | L19: =((H19-E19)/E19)*100 -> 35.858834 | M19: =((I19-D19)/D19)*100 -> 67.464533
C20: شرکتي | D20: =[1]ماهانه!$HT$34 -> 591.99955 | E20: 700.15955 | G20: 1165.7876 | H20: =[1]ماهانه!$IF$34 -> 1442.556 | I20: =[1]ماهانه!$IF$34 -> 1442.556 | K20: =((H20-G20)/G20)*100 -> 23.740899 | L20: =((H20-E20)/E20)*100 -> 106.03247 | M20: =((I20-D20)/D20)*100 -> 143.67518
B21: ارزش صندوق هاي قابل معامله (2) | D21: =[1]ماهانه!$HT$50 -> 913.19411 | E21: 1024.8505 | G21: =[1]ماهانه!$IE$50 -> 1556.4603 | H21: =[1]ماهانه!$IF$50 -> 1589.0844 | I21: =[1]ماهانه!$IF$50 -> 1589.0844 | K21: =((H21-G21)/G21)*100 -> 2.0960446 | L21: =((H21-E21)/E21)*100 -> 55.05525 | M21: =((I21-D21)/D21)*100 -> 74.013873
B22: اندازه بازار اوراق بهادار (3) | D22: =SUM(D9+D10+D15+D16+D21) -> 71173.114 | E22: =SUM(E9+E10+E15+E16+E21) -> 73378.776 | G22: =G9+G10+G15+G16+G21 -> 72171.547 | H22: =H9+H10+H15+H16+H21 -> 76253.322 | I22: =I9+I10+I15+I16+I21 -> 76253.322 | K22: =((H22-G22)/G22)*100 -> 5.6556566 | L22: =((H22-E22)/E22)*100 -> 3.9174075 | M22: =((I22-D22)/D22)*100 -> 7.1378186
B23: مجموع تامين مالي از طريق بازار سرمايه (4) | D23: ='[2]ارزش جذب و تجهیز منابع مالی'!$BB$11/1000 -> 5264.988 | E23: 7180.775 | G23: 562.05 | H23: =('[2]ارزش جذب و تجهیز منابع مالی'!$BN$11-'[2]ارزش جذب و تجهیز منابع مالی'!$BM$11)/1000 -> 372.72 | I23: ='[2]ارزش جذب و تجهیز منابع مالی'!$BN$11/1000 -> 3190.298 | K23: =((H23-G23)/G23)*100 -> -33.685615 | L23: _ | M23: =((I23-D23)/D23)*100 -> -39.405408
B24: ماخذ: سازمان بورس و اوراق بهادار (گزارش آذرماه 1401)
B25: 1- مانده اوراق بدهی به ارزش اسمی می‌باشد.
B26: 2- ارزش صندوق‌های قابل معامله شامل ارزش این صندوق در بازارهای بورس اوراق بهادار، فرابورس، بورس کالا و انرژی می‌باشد.
B27: 3- اندازه بازار اوراق بهادار شامل مجموع ارزش بازار سهام، بدهی و ارزش صندوق‌های قابل معامله در بازارهای بورس و فرا بورس می باشد.
B28: 4- شامل افزایش ارزش صندوق‌های سرمایه‌گذاری مشترک نمی‌باشد.
B29: توجه: در گزارش آذرماه سازمان بورس اوراق بهادار، اوراق اجاره در قالب اوراق بدهی شرکتی لحاظ شده است.

Sheet اوراق مالی اسلامی
B5: (هزار میلیارد ریال) | C5: وضعیت فروش اوراق تا پایان آذر 1401 | K5: 2
B6: عنوان | C6: 1400 | F6: 1401 | J6: درصد تغييرات
C7: نه | D7: پايان | F7: آبان | G7: آذر | H7: نه | J7: آذرماه به | K7: نه ماهه 1401 به
C8: ماهه | D8: سال | F8: ماه | G8: ماه | H8: ماهه | J8: ماه گذشته | K8: نه ماهه 1400 ‌
B9: اوراق بدهی دولتی | C9: =SUM(C10:C13) -> 1696.2819 | D9: 2158 | E9: 0 | F9: =SUM(F10:F13) -> 300.653 | G9: =SUM(G10:G13) -> 40.5 | H9: =SUM(H10:H13) -> 1036.7273 | J9: =((G9-F9)/F9)*100 -> -86.529321 | K9: =((H9-C9)/C9)*100 -> -38.882367
B10: اسناد خزانه اسلامي | C10: =((SUM('[2]تامین مالی - انتشار'!$AL$3:$AT$3))/1000) -> 1065 | D10: 1165 | F10: 210 | G10: ='[2]تامین مالی - انتشار'!$BF$3 -> 0 | H10: =(SUM('[2]تامین مالی - انتشار'!$AX$3:$BF$3))/1000 -> 360 | J10: =((G10-F10)/F10)*100 -> -100 | K10: =((H10-C10)/C10)*100 -> -66.197183
B11: اوراق سلف موازی استاندارد | C11: =((SUM('[2]تامین مالی - انتشار'!$AL$4:$AT$4))/1000) -> 115 | D11: 153 | F11: 0 | G11: ='[2]تامین مالی - انتشار'!$BF$4 -> 0 | H11: =((SUM('[2]تامین مالی - انتشار'!$AX$4:$BF$4))/1000) -> 0 | J11: Ө | K11: =((H11-C11)/C11)*100 -> -100
B12: اوراق مرابحه | C12: =((SUM('[2]تامین مالی - انتشار'!$AL$6:$AT$6))/1000) -> 516.2819 | D12: 840 | F12: 90.653 | G12: ='[2]تامین مالی - انتشار'!$BF$6/1000 -> 40.5 | H12: =((SUM('[2]تامین مالی - انتشار'!$AX$6:$BF$6))/1000) -> 676.72735 | J12: =((G12-F12)/F12)*100 -> -55.324148 | K12: =((H12-C12)/C12)*100 -> 31.077101
B13: اوراق منفعت | C13: =((SUM('[2]تامین مالی - انتشار'!$AL$7:$AT$7))/1000) -> 0 | D13: 0 | F13: 0 | G13: 0 | H13: 0 | J13: Ө | K13: Ө
B14: اوراق بدهی شهرداری | C14: =C15 -> 89.346794 | D14: =D15 -> 114.6596 | F14: =F15 -> 1 | G14: =G15 -> 0 | H14: =H15 -> 112.85719 | J14: =((G14-F14)/F14)*100 -> -100 | K14: =((H14-C14)/C14)*100 -> 26.313644
B15: اوراق مشاركت | C15: =((SUM('[2]تامین مالی - انتشار'!$AL$10:$AT$10))/1000)+'[3]کل تا پایان مهر'!$G$25/1000000 -> 89.346794 | D15: =((SUM('[2]تامین مالی - انتشار'!$AL$10:$AW$10))/1000)+'[4]کل تا پایان اسفند'!$G$44/1000000 -> 114.6596 | F15: ='[2]تامین مالی - انتشار'!$BE$10/1000 -> 1 | G15: ='[2]تامین مالی - انتشار'!$BF$10/1000 -> 0 | H15: =((SUM('[2]تامین مالی - انتشار'!$AX$10:$BF$10))/1000)+('[5]کل تا پایان تیر'!$G$22)/1000000 -> 112.85719 | J15: =((G15-F15)/F15)*100 -> -100 | K15: =((H15-C15)/C15)*100 -> 26.313644
B16: اوراق بدهی شرکتی | C16: =((SUM('[2]تامین مالی - انتشار'!$AL$11:$AT$11))/1000) -> 183.25 | D16: =((SUM('[2]تامین مالی - انتشار'!$AL$11:$AW$11))/1000) -> 348.05 | F16: ='[2]تامین مالی - انتشار'!$BE$11/1000 -> 125.1 | G16: ='[2]تامین مالی - انتشار'!$BF$11/1000 -> 276.768 | H16: =((SUM('[2]تامین مالی - انتشار'!$AX$11:$BF$11))/1000) -> 869.06591 | J16: =((G16-F16)/F16)*100 -> 121.23741 | K16: =((H16-C16)/C16)*100 -> 374.25152
B17: مجموع اوراق بدهی منتشره | C17: =C16+C14+C9 -> 1968.8787 | D17: =D16+D14+D9 -> 2620.7096 | F17: =F16+F14+F9 -> 426.753 | G17: =G16+G14+G9 -> 317.268 | H17: =H16+H14+H9 -> 2018.6504 | J17: =((G17-F17)/F17)*100 -> -25.655356 | K17: =((H17-C17)/C17)*100 -> 2.5279237
B18: مأخذ: بانک مرکزی ج.ا.ا، شرکت فرابورس ایران و سازمان بورس و اوراق بهادار (گزارش آذر ماه 1401)
B19: توجه: در گزارش آذرماه سازمان بورس اوراق بهادار، اوراق اجاره در قالب اوراق بدهی شرکتی لحاظ شده است.
B20: توجه: در واقع از گزارش مهرماه 1401 تغییراتی در طبقه‌بندی سازمان بورس صورت گرفته و اوراق اجاره در قالب اوراق بدهی شرکتی لحاظ شده است. داده های قبل از مهرماه 1401 نیز با این طبقه بندی جدید تغییر یافته است.
