Workbook
Name ben: #REF!
Name bene: #REF!
Name benef: #REF!
Name benefit: #REF!
Name benefit1: #REF!
Name benefit2: #REF!
Name benefit3: #REF!
Name benefit4: #REF!
Name benefit5: #REF!
Name benefit6: #REF!
Name benefit7: #REF!
Name benefit8: #REF!
Name benefit9: #REF!
Name published: #REF!
Name purchace: #REF!
Name received: #REF!

Sheet شاخص فعالیت 
B4: (هزار ميليارد ريال- ميليارد سهم) | D4: شاخص ها و نماگرهاي بازار اوراق بهادار تهران | M4: 1
B5: عنوان | D5: 1400 | G5: 1401 | K5: درصد تغييرات
D6: ده | E6: پايان | G6: آذر | H6: دی | I6: ده | K6: دی‌ماه1401 به | L6: دی‌ماه1401 به | M6: ده ماهه 1401 به
D7: ماهه | E7: سال | G7: ماه | H7: ماه | I7: ماهه | K7: ماه گذشته | L7: پايان سال 1400 | M7: ده ‌ماهه1400 ‌
B8: بورس اوراق بهادار تهران | C8: شاخص کل | D8: =[1]ماهانه!$HU$5 -> 1279393.9 | E8: =[1]ماهانه!$HW$5 -> 1367250.3 | G8: =[1]ماهانه!$IF$5 -> 1496200.8 | H8: =[1]ماهانه!$IG$5 -> 1689144.1 | I8: =[1]ماهانه!$IG$5 -> 1689144.1 | K8: =((H8-G8)/G8)*100 -> 12.895552 | L8: =((H8-E8)/E8)*100 -> 23.543151 | M8: =((I8-D8)/D8)*100 -> 32.0269
C9: شاخص هم وزن | D9: =[1]ماهانه!$HU$8 -> 335640 | E9: =[1]ماهانه!$HW$8 -> 348268.76 | G9: =[1]ماهانه!$IF$8 -> 445721.42 | H9: =[1]ماهانه!$IG$8 -> 526187.57 | I9: =[1]ماهانه!$IG$8 -> 526187.57 | K9: =((H9-G9)/G9)*100 -> 18.053012 | L9: =((H9-E9)/E9)*100 -> 51.08664 | M9: =((I9-D9)/D9)*100 -> 56.771413
C10: ارزش بازار سهام | D10: =[1]ماهانه!$HU$11 -> 51507.579 | E10: =[1]ماهانه!$HW$11 -> 54674.136 | G10: =[1]ماهانه!$IF$11 -> 55505.662 | H10: =[1]ماهانه!$IG$11 -> 62523.196 | I10: =[1]ماهانه!$IG$11 -> 62523.196 | K10: =((H10-G10)/G10)*100 -> 12.642915 | L10: =((H10-E10)/E10)*100 -> 14.356075 | M10: =((I10-D10)/D10)*100 -> 21.386399
C11: ارزش بازار بدهي | D11: =[1]ماهانه!$HU$12 -> 322.43891 | E11: =[1]ماهانه!$HW$12 -> 344.39414 | G11: =[1]ماهانه!$IF$12 -> 521.20079 | H11: =[1]ماهانه!$IG$12 -> 523.13658 | I11: =[1]ماهانه!$IG$12 -> 523.13658 | K11: =((H11-G11)/G11)*100 -> 0.37140995 | L11: =((H11-E11)/E11)*100 -> 51.900545 | M11: =((I11-D11)/D11)*100 -> 62.243626
C12: ارزش معاملات سهام | D12: =SUM('[2]معاملات سهام - نوع بازار'!$AN$9:$AW$10)/1000 -> 7731.8298 | E12: =SUM('[2]معاملات سهام - نوع بازار'!$AN$9:$AY$10)/1000 -> 8849.3977 | G12: =[1]ماهانه!$IF$9 -> 1745.9081 | H12: =[1]ماهانه!$IG$9 -> 1193.7108 | I12: =SUM([1]ماهانه!$HX$9:$IG$9) -> 7844.4612 | K12: =((H12-G12)/G12)*100 -> -31.628084 | L12: _ | M12: =((I12-D12)/D12)*100 -> 1.456724
C13: حجم معاملات سهام | D13: =SUM([1]ماهانه!$HL$10:$HU$10) -> 1192.7752 | E13: =SUM([1]ماهانه!$HL$10:$HW$10) -> 1407.4129 | G13: =[1]ماهانه!$IF$10 -> 217.11439 | H13: =[1]ماهانه!$IG$10 -> 253.71038 | I13: =SUM([1]ماهانه!$HX$10:$IG$10) -> 1572.3268 | K13: =((H13-G13)/G13)*100 -> 16.855626 | L13: _ | M13: =((I13-D13)/D13)*100 -> 31.820889
B14: فرابورس | C14: شاخص کل | D14: =[1]ماهانه!$HU$20 -> 17641.233 | E14: =[1]ماهانه!$HW$20 -> 18378.513 | G14: =[1]ماهانه!$IF$20 -> 19172.946 | H14: =[1]ماهانه!$IG$20 -> 21507.818 | I14: =[1]ماهانه!$IG$20 -> 21507.818 | K14: =((H14-G14)/G14)*100 -> 12.177947 | L14: =((H14-E14)/E14)*100 -> 17.026971 | M14: =((I14-D14)/D14)*100 -> 21.917878
C15: شاخص صکوک | D15: =[1]ماهانه!$HU$37 -> 536.07544 | E15: =[1]ماهانه!$HW$37 -> 554.19517 | G15: =[1]ماهانه!$IF$37 -> 627.15731 | H15: =[1]ماهانه!$IG$37 -> 633.61246 | I15: =[1]ماهانه!$IG$37 -> 633.61246 | K15: =((H15-G15)/G15)*100 -> 1.0292714 | L15: =((H15-E15)/E15)*100 -> 14.330202 | M15: =((I15-D15)/D15)*100 -> 18.194645
C16: ارزش بازار سهام | D16: =[1]ماهانه!$HU$24 -> 12917.007 | E16: =[1]ماهانه!$HW$24 -> 13554.45 | G16: =[1]ماهانه!$IF$24 -> 14371.983 | H16: =[1]ماهانه!$IG$24 -> 16198.228 | I16: =[1]ماهانه!$IG$24 -> 16198.228 | K16: =((H16-G16)/G16)*100 -> 12.706984 | L16: =((H16-E16)/E16)*100 -> 19.504875 | M16: =((I16-D16)/D16)*100 -> 25.402334
C17: ارزش بازار بدهي | D17: =[1]ماهانه!$HU$25 -> 3517.4782 | E17: =[1]ماهانه!$HW$25 -> 3780.9463 | G17: =[1]ماهانه!$IF$25 -> 4265.3918 | H17: =[1]ماهانه!$IG$25 -> 4255.5443 | I17: =[1]ماهانه!$IG$25 -> 4255.5443 | K17: =((H17-G17)/G17)*100 -> -0.23087068 | L17: =((H17-E17)/E17)*100 -> 12.552361 | M17: =((I17-D17)/D17)*100 -> 20.98282
C18: مانده اوراق بدهي (1) | D18: =SUM(D19:D21) -> 4788.9458 | E18: 5108.0743 | G18: =SUM(G19:G21) -> 5907.897 | H18: =SUM(H19:H21) -> 5848.118 | I18: =SUM(I19:I21) -> 5848.118 | K18: =((H18-G18)/G18)*100 -> -1.0118491 | L18: =((H18-E18)/E18)*100 -> 14.487725 | M18: =((I18-D18)/D18)*100 -> 22.117021
C19: دولتي | D19: =[1]ماهانه!$HU$32 -> 4040.3213 | E19: =[1]ماهانه!$HW$32 -> 4316.2497 | G19: =[1]ماهانه!$IF$32 -> 4340.806 | H19: =[1]ماهانه!$IG$32 -> 4223.527 | I19: =[1]ماهانه!$IG$32 -> 4223.527 | K19: =((H19-G19)/G19)*100 -> -2.7017793 | L19: =((H19-E19)/E19)*100 -> -2.1482238 | M19: =((I19-D19)/D19)*100 -> 4.5344345
C20: شهرداري‌ها | D20: =[1]ماهانه!$HU$33 -> 85.865 | E20: =[1]ماهانه!$HW$33 -> 91.665 | G20: =[1]ماهانه!$IF$33 -> 124.535 | H20: =[1]ماهانه!$IG$33 -> 157.535 | I20: =[1]ماهانه!$IG$33 -> 157.535 | K20: =((H20-G20)/G20)*100 -> 26.498575 | L20: =((H20-E20)/E20)*100 -> 71.859488 | M20: =((I20-D20)/D20)*100 -> 83.468235
C21: شرکتي | D21: =[1]ماهانه!$HU$34 -> 662.75955 | E21: =[1]ماهانه!$HW$34 -> 700.15955 | G21: =[1]ماهانه!$IF$34 -> 1442.556 | H21: =[1]ماهانه!$IG$34 -> 1467.056 | I21: =[1]ماهانه!$IG$34 -> 1467.056 | K21: =((H21-G21)/G21)*100 -> 1.6983743 | L21: =((H21-E21)/E21)*100 -> 109.53167 | M21: =((I21-D21)/D21)*100 -> 121.35569
B22: ارزش صندوق هاي قابل معامله (2) | D22: =[1]ماهانه!$HU$50 -> 941.7544 | E22: =[1]ماهانه!$HW$50 -> 1024.8505 | G22: =[1]ماهانه!$IF$50 -> 1589.0844 | H22: =[1]ماهانه!$IG$50 -> 1713.2432 | I22: =[1]ماهانه!$IG$50 -> 1713.2432 | K22: =((H22-G22)/G22)*100 -> 7.8132289 | L22: =((H22-E22)/E22)*100 -> 67.170072 | M22: =((I22-D22)/D22)*100 -> 81.920388
B23: اندازه بازار اوراق بهادار (3) | D23: =SUM(D10+D11+D16+D17+D22) -> 69206.258 | E23: =SUM(E10+E11+E16+E17+E22) -> 73378.776 | G23: =G10+G11+G16+G17+G22 -> 76253.322 | H23: =H10+H11+H16+H17+H22 -> 85213.348 | I23: =I10+I11+I16+I17+I22 -> 85213.348 | K23: =((H23-G23)/G23)*100 -> 11.750342 | L23: =((H23-E23)/E23)*100 -> 16.128058 | M23: =((I23-D23)/D23)*100 -> 23.129542
B24: مجموع تامين مالي از طريق بازار سرمايه (4) | D24: ='[2]ارزش جذب و تجهیز منابع مالی'!$BC$11/1000 -> 5580.539 | E24: ='[2]ارزش جذب و تجهیز منابع مالی'!$BE$11/1000 -> 7180.775 | G24: =('[2]ارزش جذب و تجهیز منابع مالی'!$BN$11-'[2]ارزش جذب و تجهیز منابع مالی'!$BM$11)/1000 -> 372.72 | H24: =('[2]ارزش جذب و تجهیز منابع مالی'!$BO$11-'[2]ارزش جذب و تجهیز منابع مالی'!$BN$11)/1000 -> 288.142 | I24: ='[2]ارزش جذب و تجهیز منابع مالی'!$BO$11/1000 -> 3478.44 | K24: =((H24-G24)/G24)*100 -> -22.692101 | L24: _ | M24: =((I24-D24)/D24)*100 -> -37.668387
B25: ماخذ: سازمان بورس و اوراق بهادار (گزارش دی ماه 1401)
B26: 1- مانده اوراق بدهی به ارزش اسمی می‌باشد.
B27: 2- ارزش صندوق‌های قابل معامله شامل ارزش این صندوق در بازارهای بورس اوراق بهادار تهران، فرابورس، بورس کالا و انرژی می‌باشد.
B28: 3- اندازه بازار اوراق بهادار شامل مجموع ارزش بازار سهام و بدهی بازار بورس اوراق بهادار تهران و فرابورس به ‌علاوه ارزش صندوق‌های قابل معامله می‌باشد.
B29: 4- شامل افزایش ارزش صندوق‌های سرمایه‌گذاری مشترک نمی‌باشد.
B30: توجه: در گزارش دی ماه سازمان بورس اوراق بهادار، اوراق اجاره در قالب اوراق بدهی شرکتی لحاظ شده است.

Sheet اوراق مالی اسلامی
B5: (هزار میلیارد ریال) | C5: وضعیت انتشار اوراق تا پایان دی 1401 | K5: 2
B6: عنوان | C6: 1400 | F6: 1401 | J6: درصد تغييرات
C7: ده | D7: پايان | F7: آذر | G7: دی | H7: ده | J7: دی‌ماه 1401 به | K7: ده ماهه 1401 به
C8: ماهه | D8: سال | F8: ماه | G8: ماه | H8: ماهه | J8: ماه گذشته | K8: ده ماهه 1400 ‌
B9: اوراق بدهی دولتی | C9: =SUM(C10:C13) -> 1811.8715 | D9: =SUM(D10:D13) -> 2158 | E9: 0 | F9: =SUM(F10:F13) -> 40.5 | G9: =SUM(G10:G13) -> 16.8 | H9: =SUM(H10:H13) -> 1053.5273 | J9: =((G9-F9)/F9)*100 -> -58.518519 | K9: =((H9-C9)/C9)*100 -> -41.854191
B10: اسناد خزانه اسلامي | C10: =(SUM('[2]تامین مالی - انتشار'!$AL$3:$AU$3))/1000 -> 1115 | D10: =(SUM('[2]تامین مالی - انتشار'!$AL$3:$AW$3)/1000) -> 1165 | F10: ='[2]تامین مالی - انتشار'!$BF$3 -> 0 | G10: ='[2]تامین مالی - انتشار'!$BG$3 -> 0 | H10: =(SUM('[2]تامین مالی - انتشار'!$AX$3:$BG$3))/1000 -> 360 | J10: Ө | K10: =((H10-C10)/C10)*100 -> -67.713004
B11: اوراق سلف موازی استاندارد | C11: =(SUM('[2]تامین مالی - انتشار'!$AL$4:$AU$4)/1000) -> 115 | D11: =(SUM('[2]تامین مالی - انتشار'!$AL$4:$AW$4)/1000) -> 153 | F11: ='[2]تامین مالی - انتشار'!$BF$4 -> 0 | G11: ='[2]تامین مالی - انتشار'!$BG$4 -> 0 | H11: =(SUM('[2]تامین مالی - انتشار'!$AX$4:$BG$4)) -> 0 | J11: Ө | K11: =((H11-C11)/C11)*100 -> -100
B12: اوراق مرابحه | C12: =(SUM('[2]تامین مالی - انتشار'!$AL$6:$AU$6)/1000) -> 581.8715 | D12: =(SUM('[2]تامین مالی - انتشار'!$AL$6:$AW$6))/1000 -> 840 | F12: ='[2]تامین مالی - انتشار'!$BF$6/1000 -> 40.5 | G12: ='[2]تامین مالی - انتشار'!$BG$6/1000 -> 16.8 | H12: =(SUM('[2]تامین مالی - انتشار'!$AX$6:$BG$6)/1000) -> 693.52734 | J12: =((G12-F12)/F12)*100 -> -58.518519 | K12: =((H12-C12)/C12)*100 -> 19.18909
B13: اوراق منفعت | C13: =((SUM('[2]تامین مالی - انتشار'!$AL$7:$AU$7)/1000)) -> 0 | D13: =((SUM('[2]تامین مالی - انتشار'!$AL$7:$AW$7)/1000)) -> 0 | F13: ='[2]تامین مالی - انتشار'!$BF$7 -> 0 | G13: ='[2]تامین مالی - انتشار'!$BG$7 -> 0 | H13: =(SUM('[2]تامین مالی - انتشار'!$AX$7:$BG$7)/1000) -> 0 | J13: Ө | K13: Ө
B14: اوراق بدهی شهرداری | C14: =C15 -> 100.865 | D14: =D15 -> 194.665 | F14: =F15 -> 0 | G14: =G15 -> 33 | H14: =H15 -> 145.87 | J14: Ө | K14: =((H14-C14)/C14)*100 -> 44.619045
B15: اوراق مشاركت ▲ | C15: =(SUM('[2]تامین مالی - انتشار'!$AL$10:$AU$10)/1000)+'[3]کل تا پایان مهر'!$E$25/1000000 -> 100.865 | D15: =((SUM('[2]تامین مالی - انتشار'!$AL$10:$AW$10)/1000)+'[4]کل تا پایان اسفند'!$E$44/1000000) -> 194.665 | F15: ='[2]تامین مالی - انتشار'!$BF$10/1000 -> 0 | G15: ='[2]تامین مالی - انتشار'!$BG$10/1000 -> 33 | H15: =((SUM('[2]تامین مالی - انتشار'!$AX$10:$BG$10)/1000)+('[5]کل تا پایان تیر'!$E$22)/1000000) -> 145.87 | J15: Ө | K15: =((H15-C15)/C15)*100 -> 44.619045
B16: اوراق بدهی شرکتی | C16: =(SUM('[2]تامین مالی - انتشار'!$AL$11:$AU$11)/1000) -> 254.25 | D16: =(SUM('[2]تامین مالی - انتشار'!$AL$11:$AW$11)/1000) -> 348.05 | F16: ='[2]تامین مالی - انتشار'!$BF$11/1000 -> 276.768 | G16: ='[2]تامین مالی - انتشار'!$BG$11/1000 -> 30.5 | H16: =(SUM('[2]تامین مالی - انتشار'!$AX$11:$BG$11)/1000) -> 899.56591 | J16: =((G16-F16)/F16)*100 -> -88.97994 | K16: =((H16-C16)/C16)*100 -> 253.81157
B17: مجموع اوراق بدهی منتشره | C17: =C16+C14+C9 -> 2166.9865 | D17: =D16+D14+D9 -> 2700.715 | F17: =F16+F14+F9 -> 317.268 | G17: =G16+G14+G9 -> 80.3 | H17: =H16+H14+H9 -> 2098.9633 | J17: =((G17-F17)/F17)*100 -> -74.690167 | K17: =((H17-C17)/C17)*100 -> -3.139071
B18: مأخذ: بانک مرکزی ج.ا.ا، شرکت فرابورس ایران و سازمان بورس و اوراق بهادار (گزارش دی ماه 1401)
B19: توجه: در گزارش دی ماه سازمان بورس اوراق بهادار، اوراق اجاره در قالب اوراق بدهی شرکتی لحاظ شده است.
B20: توجه:در واقع از گزارش مهرماه 1401 تغییراتی در طبقه‌بندی سازمان بورس صورت گرفته و اوراق اجاره در قالب اوراق بدهی شرکتی لحاظ شده است. داده های قبل از مهرماه 1401 نیز با این طبقه بندی جدید تغییر یافته است.
B21: توجه: از دی ماه 1401 اوراق بدهی شهرداری اصلاح شد و آمار مربوط به انتشار این اوراق به جای فروش آن در نظر گرفته شد.
